BEGIN:VCALENDAR
VERSION:2.0
PRODID:-//San Diego Tech Scene - ECPv6.15.20//NONSGML v1.0//EN
CALSCALE:GREGORIAN
METHOD:PUBLISH
X-WR-CALNAME:San Diego Tech Scene
X-ORIGINAL-URL:https://sdtechscene.org
X-WR-CALDESC:Events for San Diego Tech Scene
REFRESH-INTERVAL;VALUE=DURATION:PT1H
X-Robots-Tag:noindex
X-PUBLISHED-TTL:PT1H
BEGIN:VTIMEZONE
TZID:America/Los_Angeles
BEGIN:DAYLIGHT
TZOFFSETFROM:-0800
TZOFFSETTO:-0700
TZNAME:PDT
DTSTART:20240310T100000
END:DAYLIGHT
BEGIN:STANDARD
TZOFFSETFROM:-0700
TZOFFSETTO:-0800
TZNAME:PST
DTSTART:20241103T090000
END:STANDARD
BEGIN:DAYLIGHT
TZOFFSETFROM:-0800
TZOFFSETTO:-0700
TZNAME:PDT
DTSTART:20250309T100000
END:DAYLIGHT
BEGIN:STANDARD
TZOFFSETFROM:-0700
TZOFFSETTO:-0800
TZNAME:PST
DTSTART:20251102T090000
END:STANDARD
BEGIN:DAYLIGHT
TZOFFSETFROM:-0800
TZOFFSETTO:-0700
TZNAME:PDT
DTSTART:20260308T100000
END:DAYLIGHT
BEGIN:STANDARD
TZOFFSETFROM:-0700
TZOFFSETTO:-0800
TZNAME:PST
DTSTART:20261101T090000
END:STANDARD
BEGIN:DAYLIGHT
TZOFFSETFROM:-0800
TZOFFSETTO:-0700
TZNAME:PDT
DTSTART:20270314T100000
END:DAYLIGHT
BEGIN:STANDARD
TZOFFSETFROM:-0700
TZOFFSETTO:-0800
TZNAME:PST
DTSTART:20271107T090000
END:STANDARD
END:VTIMEZONE
BEGIN:VEVENT
DTSTART;TZID=America/Los_Angeles:20260415T180000
DTEND;TZID=America/Los_Angeles:20260415T190000
DTSTAMP:20260424T065742
CREATED:20260415T084554Z
LAST-MODIFIED:20260415T084554Z
UID:10018207-1776276000-1776279600@sdtechscene.org
SUMMARY:Startup Stories: Michael Selepec\, Bird Scooters Founding Team
DESCRIPTION:Come see a talk at SDSU from an entrepreneur\, hosted by SDSU Entrepreneurship Initiatives. Learn their story and advice for your journey! \n\n\n\n\nMichael Selepec was an early team member at Bird scooters and Yammer\, where he led efforts across partnerships\, go to market strategy\, and brand marketing. He is also an advisor with 15+ years of experience building and scaling companies from early days to global impact and today\, he works with founders and leadership teams through his consulting firm\, Gray Reign. \nLocation: EIS Courtyard (near bcb coffee) \nEvent is open to the public. Guests that arrive after start time may be turned away due to seating capacity (even if you RSVPed) \nPlease note: Non-SDSU students\, faculty\, and staff are required to pay for parking.
URL:https://sdtechscene.org/event/startup-stories-michael-selepec-bird-scooters-founding-team/
LOCATION:SDSU ZIP Launchpad (Zahn Innovation Platform)\, 5500 Campanile Drive EIS 103\, San Diego\, CA\, 92128\, United States
CATEGORIES:Entrepreneurs
END:VEVENT
BEGIN:VEVENT
DTSTART;TZID=America/Los_Angeles:20260318T180000
DTEND;TZID=America/Los_Angeles:20260318T190000
DTSTAMP:20260424T065742
CREATED:20260317T062008Z
LAST-MODIFIED:20260317T062008Z
UID:10017236-1773856800-1773860400@sdtechscene.org
SUMMARY:Founder of Volcom: Thom McElroy Speaker Event
DESCRIPTION:Come listen to the founder of Volcom and SDSU Alumni\, Thom\, to learn from his ultra-successful journey. Located in EIS 103 (ZIP Launchpad) \n\n\n\n\nJoin us for an engaging speaker event with Thom McElroy\, Founder of Volcom and a pioneering entrepreneur in action sports\, lifestyle\, and youth culture. Thom will share insights from his journey building one of the most influential global brands\, along with his experiences in innovation\, creativity\, and brand leadership. Located in EIS 103 \nThis event is open to the public. Please note that guests who arrive after the start time may be turned away due to seating capacity\, even if they have RSVP’d. \nParking information: Non-SDSU students\, faculty\, and staff are required to pay for parking.
URL:https://sdtechscene.org/event/founder-of-volcom-thom-mcelroy-speaker-event/
LOCATION:SDSU ZIP Launchpad (Zahn Innovation Platform)\, 5500 Campanile Drive EIS 103\, San Diego\, CA\, 92128\, United States
CATEGORIES:Entrepreneurs,Events & Conferences,Startups & Founders
END:VEVENT
BEGIN:VEVENT
DTSTART;TZID=America/Los_Angeles:20260130T093000
DTEND;TZID=America/Los_Angeles:20260130T160000
DTSTAMP:20260424T065742
CREATED:20250904T051542Z
LAST-MODIFIED:20260130T055039Z
UID:10012111-1769765400-1769788800@sdtechscene.org
SUMMARY:Startup Bootcamp
DESCRIPTION:Got an idea—or not? Bootcamp is your chance to get founder reps in! In just 5 hours\, you’ll develop an idea\, find a team\, and make a sale.\n\n\n\n🚀Startup Bootcamp – Launch a Business in 5 Hours \nJoin us for the Spring 2026 Startup Bootcamp! A transformative day-long event where you’ll form teams around diverse ideas\, conduct real-time market research\, and bring new innovations to life – all with the goal of making a sale in 5 hours! \nSDSU Students welcome. Breakfast and lunch will be provided. \nEvent is open to the public. Guests that arrive after start time may be turned away due to seating capacity (even if you RSVPed) \nPlease note: Non-SDSU students\, faculty\, and staff are required to pay for parking.
URL:https://sdtechscene.org/event/startup-bootcamp/
LOCATION:SDSU ZIP Launchpad (Zahn Innovation Platform)\, 5500 Campanile Drive EIS 103\, San Diego\, CA\, 92128\, United States
CATEGORIES:Business & Professionals,Startups & Founders
END:VEVENT
BEGIN:VEVENT
DTSTART;TZID=America/Los_Angeles:20251003T110000
DTEND;TZID=America/Los_Angeles:20251003T150000
DTSTAMP:20260424T065742
CREATED:20250826T070629Z
LAST-MODIFIED:20251003T055450Z
UID:10012061-1759489200-1759503600@sdtechscene.org
SUMMARY:SDSU Entrepreneurship Initiatives Open House
DESCRIPTION:SDSU Entrepreneurship Initiatives Open House \nLearn more about the ZIP Launchpad\, Lavin and Entrepreneur Society! Join us Tuesday 8/26/2025\, 11-3 PM\, in EIS 103. Snacks Provided! \nPlease note: Non-SDSU students\, faculty\, and staff are required to pay for parking.
URL:https://sdtechscene.org/event/sdsu-entrepreneurship-initiatives-open-house/
LOCATION:SDSU ZIP Launchpad (Zahn Innovation Platform)\, 5500 Campanile Drive EIS 103\, San Diego\, CA\, 92128\, United States
CATEGORIES:Entrepreneurs
END:VEVENT
BEGIN:VEVENT
DTSTART;TZID=America/Los_Angeles:20250912T170000
DTEND;TZID=America/Los_Angeles:20250912T190000
DTSTAMP:20260424T065742
CREATED:20250911T074727Z
LAST-MODIFIED:20250914T190404Z
UID:10012253-1757696400-1757703600@sdtechscene.org
SUMMARY:Join Subly’s SDSU meetup for safe\, fast student subleasing connections!
DESCRIPTION:Looking for housing or trying to sublease your place? Join us at Subly’s SDSU Subleasing Meetup! This event connects students who need secure\, reliable housing options with those offering subleases. Meet fellow Aztecs\, explore verified housing opportunities\, and make fast\, trustworthy connections—all in one place.
URL:https://sdtechscene.org/event/join-sublys-sdsu-meetup-for-safe-fast-student-subleasing-connections/
LOCATION:SDSU ZIP Launchpad (Zahn Innovation Platform)\, 5500 Campanile Drive EIS 103\, San Diego\, CA\, 92128\, United States
CATEGORIES:Networking
END:VEVENT
BEGIN:VEVENT
DTSTART;TZID=America/Los_Angeles:20250910T180000
DTEND;TZID=America/Los_Angeles:20250910T190000
DTSTAMP:20260424T065742
CREATED:20250909T073033Z
LAST-MODIFIED:20250909T073033Z
UID:10012181-1757527200-1757530800@sdtechscene.org
SUMMARY:Startup Stories: Matt Clifford
DESCRIPTION:Hear SDSU alumnus Matt Clifford of Barnana share how he turned overripe bananas into a national snack phenomenon. It’s open to the public + free Oggi’s pizza! \n\n\n\n\n\n\n\n\nPlease note: Non-SDSU students\, faculty\, and staff are required to pay for parking.
URL:https://sdtechscene.org/event/startup-stories-matt-clifford/
LOCATION:SDSU ZIP Launchpad (Zahn Innovation Platform)\, 5500 Campanile Drive EIS 103\, San Diego\, CA\, 92128\, United States
CATEGORIES:Startups & Founders
END:VEVENT
BEGIN:VEVENT
DTSTART;TZID=America/Los_Angeles:20250903T180000
DTEND;TZID=America/Los_Angeles:20250903T190000
DTSTAMP:20260424T065742
CREATED:20250205T045326Z
LAST-MODIFIED:20250902T082709Z
UID:10008890-1756922400-1756926000@sdtechscene.org
SUMMARY:Entrepreneur Society PitchFest
DESCRIPTION:This event provides an opportunity for aspiring student entrepreneurs from various disciplines to come together to pitch their ideas to fellow students and innovators. Witness a series of compelling presentations as students pitch their innovative ideas at the Entrepreneur Society PitchFest! \nFREE Oggi’s Pizza. \nPlease note: Non-SDSU students\, faculty\, and staff are required to pay for parking.
URL:https://sdtechscene.org/event/entrepreneur-society-pitchfest/
LOCATION:SDSU ZIP Launchpad (Zahn Innovation Platform)\, 5500 Campanile Drive EIS 103\, San Diego\, CA\, 92128\, United States
CATEGORIES:Entrepreneurs,Innovation,Innovators,Pitches
END:VEVENT
END:VCALENDAR