BEGIN:VCALENDAR
VERSION:2.0
PRODID:-//San Diego Tech Scene - ECPv6.15.20//NONSGML v1.0//EN
CALSCALE:GREGORIAN
METHOD:PUBLISH
X-WR-CALNAME:San Diego Tech Scene
X-ORIGINAL-URL:https://sdtechscene.org
X-WR-CALDESC:Events for San Diego Tech Scene
REFRESH-INTERVAL;VALUE=DURATION:PT1H
X-Robots-Tag:noindex
X-PUBLISHED-TTL:PT1H
BEGIN:VTIMEZONE
TZID:America/Los_Angeles
BEGIN:DAYLIGHT
TZOFFSETFROM:-0800
TZOFFSETTO:-0700
TZNAME:PDT
DTSTART:20250309T100000
END:DAYLIGHT
BEGIN:STANDARD
TZOFFSETFROM:-0700
TZOFFSETTO:-0800
TZNAME:PST
DTSTART:20251102T090000
END:STANDARD
BEGIN:DAYLIGHT
TZOFFSETFROM:-0800
TZOFFSETTO:-0700
TZNAME:PDT
DTSTART:20260308T100000
END:DAYLIGHT
BEGIN:STANDARD
TZOFFSETFROM:-0700
TZOFFSETTO:-0800
TZNAME:PST
DTSTART:20261101T090000
END:STANDARD
BEGIN:DAYLIGHT
TZOFFSETFROM:-0800
TZOFFSETTO:-0700
TZNAME:PDT
DTSTART:20270314T100000
END:DAYLIGHT
BEGIN:STANDARD
TZOFFSETFROM:-0700
TZOFFSETTO:-0800
TZNAME:PST
DTSTART:20271107T090000
END:STANDARD
END:VTIMEZONE
BEGIN:VEVENT
DTSTART;TZID=America/Los_Angeles:20260425T090000
DTEND;TZID=America/Los_Angeles:20260425T120000
DTSTAMP:20260424T064125
CREATED:20260424T073816Z
LAST-MODIFIED:20260424T073816Z
UID:10018286-1777107600-1777118400@sdtechscene.org
SUMMARY:Cleanup @ Seaport Village - Surfrider Foundation San Diego
DESCRIPTION:Cleanups are a fun and rewarding way to volunteer and engage with our mission to protect our ocean\, waves and beaches\, for all people. \n\n\n\n\nJoin Surfrider San Diego and our Ocean Friendly Hosts\, Sally’s Waterfront Dining\, for a cleanup at Seaport Village. For faster check-in\, register through the offical Surfrider sign-up link: Seaport Village Cleanup \nPURPOSE \nBring your family\, friends and make new acquaintances to raise awareness about litter and plastic pollution. Earn service hours too! Getting involved with the Surfrider Foundation shows that you care about the community and its environment. \nROLE \nLearn a bit more about our beach cleanup program by removing trash and collecting data to support a healthier ocean\, parks\, waterways\, and beaches. \nVIBE \nActive teamwork\, outdoors\, and fun! We provide cleanup supplies until we run out.
URL:https://sdtechscene.org/event/cleanup-seaport-village-surfrider-foundation-san-diego/
LOCATION:Sally’s Waterfront Dining\, 1 Market Place\, San Diego\, CA\, 92101\, United States
CATEGORIES:Community Building,Networking
END:VEVENT
END:VCALENDAR