BEGIN:VCALENDAR
VERSION:2.0
PRODID:-//San Diego Tech Scene - ECPv6.15.20//NONSGML v1.0//EN
CALSCALE:GREGORIAN
METHOD:PUBLISH
X-WR-CALNAME:San Diego Tech Scene
X-ORIGINAL-URL:https://sdtechscene.org
X-WR-CALDESC:Events for San Diego Tech Scene
REFRESH-INTERVAL;VALUE=DURATION:PT1H
X-Robots-Tag:noindex
X-PUBLISHED-TTL:PT1H
BEGIN:VTIMEZONE
TZID:America/Los_Angeles
BEGIN:DAYLIGHT
TZOFFSETFROM:-0800
TZOFFSETTO:-0700
TZNAME:PDT
DTSTART:20250309T100000
END:DAYLIGHT
BEGIN:STANDARD
TZOFFSETFROM:-0700
TZOFFSETTO:-0800
TZNAME:PST
DTSTART:20251102T090000
END:STANDARD
BEGIN:DAYLIGHT
TZOFFSETFROM:-0800
TZOFFSETTO:-0700
TZNAME:PDT
DTSTART:20260308T100000
END:DAYLIGHT
BEGIN:STANDARD
TZOFFSETFROM:-0700
TZOFFSETTO:-0800
TZNAME:PST
DTSTART:20261101T090000
END:STANDARD
BEGIN:DAYLIGHT
TZOFFSETFROM:-0800
TZOFFSETTO:-0700
TZNAME:PDT
DTSTART:20270314T100000
END:DAYLIGHT
BEGIN:STANDARD
TZOFFSETFROM:-0700
TZOFFSETTO:-0800
TZNAME:PST
DTSTART:20271107T090000
END:STANDARD
END:VTIMEZONE
BEGIN:VEVENT
DTSTART;TZID=America/Los_Angeles:20260425T130000
DTEND;TZID=America/Los_Angeles:20260425T150000
DTSTAMP:20260424T063906
CREATED:20260424T081708Z
LAST-MODIFIED:20260424T081708Z
UID:10018290-1777122000-1777129200@sdtechscene.org
SUMMARY:Open House + Bionic Baseball Film Screening
DESCRIPTION:Join us at this special screening to celebrate the share mission of PSYONIC and the Ability Fund: ensuring limb loss never limits human potential. \nWe’ll have a talk and Q&A with CEO of PSYONIC\, Dr. Aadeel Akhtar\, our celebrated athlete\, Jamie Groshong\, and more! \nOptional $20 donations to support the mission will be taken at the door. Hope to see you there!
URL:https://sdtechscene.org/event/open-house-bionic-baseball-film-screening/
LOCATION:PSYONIC\, PSYONIC\, San Diego\, CA\, United States
CATEGORIES:Events & Conferences
END:VEVENT
END:VCALENDAR