BEGIN:VCALENDAR
VERSION:2.0
PRODID:-//San Diego Tech Scene - ECPv6.15.20//NONSGML v1.0//EN
CALSCALE:GREGORIAN
METHOD:PUBLISH
X-ORIGINAL-URL:https://sdtechscene.org
X-WR-CALDESC:Events for San Diego Tech Scene
REFRESH-INTERVAL;VALUE=DURATION:PT1H
X-Robots-Tag:noindex
X-PUBLISHED-TTL:PT1H
BEGIN:VTIMEZONE
TZID:America/Los_Angeles
BEGIN:DAYLIGHT
TZOFFSETFROM:-0800
TZOFFSETTO:-0700
TZNAME:PDT
DTSTART:20250309T100000
END:DAYLIGHT
BEGIN:STANDARD
TZOFFSETFROM:-0700
TZOFFSETTO:-0800
TZNAME:PST
DTSTART:20251102T090000
END:STANDARD
BEGIN:DAYLIGHT
TZOFFSETFROM:-0800
TZOFFSETTO:-0700
TZNAME:PDT
DTSTART:20260308T100000
END:DAYLIGHT
BEGIN:STANDARD
TZOFFSETFROM:-0700
TZOFFSETTO:-0800
TZNAME:PST
DTSTART:20261101T090000
END:STANDARD
BEGIN:DAYLIGHT
TZOFFSETFROM:-0800
TZOFFSETTO:-0700
TZNAME:PDT
DTSTART:20270314T100000
END:DAYLIGHT
BEGIN:STANDARD
TZOFFSETFROM:-0700
TZOFFSETTO:-0800
TZNAME:PST
DTSTART:20271107T090000
END:STANDARD
END:VTIMEZONE
BEGIN:VEVENT
DTSTART;TZID=America/Los_Angeles:20260320T083000
DTEND;TZID=America/Los_Angeles:20260320T140000
DTSTAMP:20260424T064247
CREATED:20260319T043758Z
LAST-MODIFIED:20260319T043758Z
UID:10017252-1773995400-1774015200@sdtechscene.org
SUMMARY:Coffee & Coworking with The One Club for Creativity
DESCRIPTION:☕️ Missing the buzz of coffee and people? Join us on Friday for a morning coffee meetup\, followed by a focused coworking session in this stunning\, open-concept venue with indoor/outdoor spaces. Connect with other creative professionals and enjoy a casual lunch break in a fun\, relaxed atmosphere. \nJoya is a contemporary\, approachable restaurant serving organic farm-fresh menu items\, daily specials\, and delicious salads\, sandwiches\, and pressed juices.
URL:https://sdtechscene.org/event/coffee-coworking-with-the-one-club-for-creativity/
LOCATION:Joya Kitchen\, 10275 Science Center Dr\, San Diego\, CA\, 92121\, United States
CATEGORIES:Coworking,Professionals
END:VEVENT
END:VCALENDAR