BEGIN:VCALENDAR
VERSION:2.0
PRODID:-//San Diego Tech Scene - ECPv6.15.20//NONSGML v1.0//EN
CALSCALE:GREGORIAN
METHOD:PUBLISH
X-WR-CALNAME:San Diego Tech Scene
X-ORIGINAL-URL:https://sdtechscene.org
X-WR-CALDESC:Events for San Diego Tech Scene
REFRESH-INTERVAL;VALUE=DURATION:PT1H
X-Robots-Tag:noindex
X-PUBLISHED-TTL:PT1H
BEGIN:VTIMEZONE
TZID:America/Los_Angeles
BEGIN:DAYLIGHT
TZOFFSETFROM:-0800
TZOFFSETTO:-0700
TZNAME:PDT
DTSTART:20250309T100000
END:DAYLIGHT
BEGIN:STANDARD
TZOFFSETFROM:-0700
TZOFFSETTO:-0800
TZNAME:PST
DTSTART:20251102T090000
END:STANDARD
BEGIN:DAYLIGHT
TZOFFSETFROM:-0800
TZOFFSETTO:-0700
TZNAME:PDT
DTSTART:20260308T100000
END:DAYLIGHT
BEGIN:STANDARD
TZOFFSETFROM:-0700
TZOFFSETTO:-0800
TZNAME:PST
DTSTART:20261101T090000
END:STANDARD
BEGIN:DAYLIGHT
TZOFFSETFROM:-0800
TZOFFSETTO:-0700
TZNAME:PDT
DTSTART:20270314T100000
END:DAYLIGHT
BEGIN:STANDARD
TZOFFSETFROM:-0700
TZOFFSETTO:-0800
TZNAME:PST
DTSTART:20271107T090000
END:STANDARD
END:VTIMEZONE
BEGIN:VEVENT
DTSTART;TZID=America/Los_Angeles:20260424T111500
DTEND;TZID=America/Los_Angeles:20260424T130000
DTSTAMP:20260424T070831
CREATED:20260424T054908Z
LAST-MODIFIED:20260424T054908Z
UID:10018282-1777029300-1777035600@sdtechscene.org
SUMMARY:Inside Dual-Use Technology Lunch & Learn
DESCRIPTION:Join The FORGE for a high-impact lunch and learn as we deconstruct the future of dual technology. Are you ready? \n\n\n\n\nDual-Use Tech: The New Era of Defense Innovation \nThe “traditional” way of doing business with the government has just changed. With the Department of War’s recent acquisition reforms\, the barrier between commercial brilliance and national security has never been thinner. We’re bringing together the founders building the tech\, the VCs funding the mission\, and the government leaders rewriting the rulebook. \nThe Panel \n\nJinendra Ranka | Associate. Dean for Research\, SCIDS\nDan Magy | Founder & CEO\, Firestorm Labs\nJake Windle | Partner\, Harpoon VC\nSteve Kiser | General Partner\, Veteran Ventures Capital\nDenese Cordaro | Professor\, Warfighter Acquisition University\n\nWhy Attend? \n\nBridge the Gap: Learn how to build products that serve both commercial markets and the warfighter.\nDecipher the Reform: Understand exactly how the DoW’s acquisition changes impact startups and researchers.\nFollow the Capital: Get the VC perspective on why the dual-use sector is the most resilient in today’s economy.\nNetwork: Connect with the region’s top defense tech innovators\, faculty\, and industry leaders.\n\nWho Should Join? \nWhether you’re a researcher with a patentable breakthrough\, a student looking to enter the defense-tech space\, or an industry veteran pivoting to the new acquisition model\, this conversation is for you. \nThe Details \nDate: April 24\, 2026 \nTime: 11:15 a.m. – 1 p.m. (Panel 11:30 a.m. to 12:30 p.m.) \nLocation: UC San Diego Design & Innovation Building\, Room 208 \nLunch: Provided for all registered attendees. \nSpace is limited. Secure your seat at the front line of innovation. \n\n\n\n\nDirections to the Design & Innovation Building \nThe event is located on the second floor (room 208) of the Design and Innovation Building (DIB). The entrances are located across from the Structural Materials and Engineering building or next to the UC San Diego Central Campus Station bus and trolley stop. \n———————— \nMTS Trolley \nThe easiest way to get to the DIB is by taking the MTS trolley UC San Diego Blue Line and getting off at the UC San Diego Central Campus stop. The trolley stop is a short 1 minute walk to the DIB. \nParking \nPublic transportation is highly recommended as parking is limited on campus. If you plan to drive to campus\, please give yourself plenty of time. You can download the ParkMobile app to pay for your space digitally once you find a spot. \n\nP510 – Pay and Display\, Northside of the DIB *closest to the DIB*\nGilman Parking Structure\, Southwest side of the DIB
URL:https://sdtechscene.org/event/inside-dual-use-technology-lunch-learn/
LOCATION:Design & Innovation Building\, Room 208\, 9510 Innovation Lane\, San Diego\, CA\, 92093\, United States
CATEGORIES:Research,Startups & Founders
END:VEVENT
END:VCALENDAR