BEGIN:VCALENDAR
VERSION:2.0
PRODID:-//San Diego Tech Scene - ECPv6.15.19//NONSGML v1.0//EN
CALSCALE:GREGORIAN
METHOD:PUBLISH
X-ORIGINAL-URL:https://sdtechscene.org
X-WR-CALDESC:Events for San Diego Tech Scene
REFRESH-INTERVAL;VALUE=DURATION:PT1H
X-Robots-Tag:noindex
X-PUBLISHED-TTL:PT1H
BEGIN:VTIMEZONE
TZID:America/Los_Angeles
BEGIN:DAYLIGHT
TZOFFSETFROM:-0800
TZOFFSETTO:-0700
TZNAME:PDT
DTSTART:20250309T100000
END:DAYLIGHT
BEGIN:STANDARD
TZOFFSETFROM:-0700
TZOFFSETTO:-0800
TZNAME:PST
DTSTART:20251102T090000
END:STANDARD
BEGIN:DAYLIGHT
TZOFFSETFROM:-0800
TZOFFSETTO:-0700
TZNAME:PDT
DTSTART:20260308T100000
END:DAYLIGHT
BEGIN:STANDARD
TZOFFSETFROM:-0700
TZOFFSETTO:-0800
TZNAME:PST
DTSTART:20261101T090000
END:STANDARD
BEGIN:DAYLIGHT
TZOFFSETFROM:-0800
TZOFFSETTO:-0700
TZNAME:PDT
DTSTART:20270314T100000
END:DAYLIGHT
BEGIN:STANDARD
TZOFFSETFROM:-0700
TZOFFSETTO:-0800
TZNAME:PST
DTSTART:20271107T090000
END:STANDARD
END:VTIMEZONE
BEGIN:VEVENT
DTSTART;TZID=America/Los_Angeles:20260421T070000
DTEND;TZID=America/Los_Angeles:20260421T080000
DTSTAMP:20260418T213228
CREATED:20250826T081405Z
LAST-MODIFIED:20250930T075024Z
UID:10012440-1776754800-1776758400@sdtechscene.org
SUMMARY:Scared to speak in front a group? We'll help you!
DESCRIPTION:A fun\, supportive environment to practice your public speaking skills – for all levels of speakers! This is for YOU – who want to improve + polish their communication. This is for beginners who are looking for a comfortable place to start. And\, this is also for seasoned speakers looking to tune up for a presentation. \nThis is a recurring weekly meeting. https://www.meetup.com/palomar-airport-toastmasters/
URL:https://sdtechscene.org/event/scared-to-speak-in-front-a-group-well-help-you/2026-04-21/
LOCATION:6750 Paseo Del Norte\, 6750 Paseo Del Norte\, Carlsbad\, CA\, 92011\, United States
CATEGORIES:Discussions
END:VEVENT
BEGIN:VEVENT
DTSTART;TZID=America/Los_Angeles:20260428T070000
DTEND;TZID=America/Los_Angeles:20260428T080000
DTSTAMP:20260418T213228
CREATED:20250826T081405Z
LAST-MODIFIED:20250930T075024Z
UID:10012441-1777359600-1777363200@sdtechscene.org
SUMMARY:Scared to speak in front a group? We'll help you!
DESCRIPTION:A fun\, supportive environment to practice your public speaking skills – for all levels of speakers! This is for YOU – who want to improve + polish their communication. This is for beginners who are looking for a comfortable place to start. And\, this is also for seasoned speakers looking to tune up for a presentation. \nThis is a recurring weekly meeting. https://www.meetup.com/palomar-airport-toastmasters/
URL:https://sdtechscene.org/event/scared-to-speak-in-front-a-group-well-help-you/2026-04-28/
LOCATION:6750 Paseo Del Norte\, 6750 Paseo Del Norte\, Carlsbad\, CA\, 92011\, United States
CATEGORIES:Discussions
END:VEVENT
BEGIN:VEVENT
DTSTART;TZID=America/Los_Angeles:20260505T070000
DTEND;TZID=America/Los_Angeles:20260505T080000
DTSTAMP:20260418T213228
CREATED:20250826T081405Z
LAST-MODIFIED:20250930T075024Z
UID:10012442-1777964400-1777968000@sdtechscene.org
SUMMARY:Scared to speak in front a group? We'll help you!
DESCRIPTION:A fun\, supportive environment to practice your public speaking skills – for all levels of speakers! This is for YOU – who want to improve + polish their communication. This is for beginners who are looking for a comfortable place to start. And\, this is also for seasoned speakers looking to tune up for a presentation. \nThis is a recurring weekly meeting. https://www.meetup.com/palomar-airport-toastmasters/
URL:https://sdtechscene.org/event/scared-to-speak-in-front-a-group-well-help-you/2026-05-05/
LOCATION:6750 Paseo Del Norte\, 6750 Paseo Del Norte\, Carlsbad\, CA\, 92011\, United States
CATEGORIES:Discussions
END:VEVENT
BEGIN:VEVENT
DTSTART;TZID=America/Los_Angeles:20260512T070000
DTEND;TZID=America/Los_Angeles:20260512T080000
DTSTAMP:20260418T213228
CREATED:20250826T081405Z
LAST-MODIFIED:20250930T075024Z
UID:10012443-1778569200-1778572800@sdtechscene.org
SUMMARY:Scared to speak in front a group? We'll help you!
DESCRIPTION:A fun\, supportive environment to practice your public speaking skills – for all levels of speakers! This is for YOU – who want to improve + polish their communication. This is for beginners who are looking for a comfortable place to start. And\, this is also for seasoned speakers looking to tune up for a presentation. \nThis is a recurring weekly meeting. https://www.meetup.com/palomar-airport-toastmasters/
URL:https://sdtechscene.org/event/scared-to-speak-in-front-a-group-well-help-you/2026-05-12/
LOCATION:6750 Paseo Del Norte\, 6750 Paseo Del Norte\, Carlsbad\, CA\, 92011\, United States
CATEGORIES:Discussions
END:VEVENT
BEGIN:VEVENT
DTSTART;TZID=America/Los_Angeles:20260519T070000
DTEND;TZID=America/Los_Angeles:20260519T080000
DTSTAMP:20260418T213228
CREATED:20250826T081405Z
LAST-MODIFIED:20250930T075024Z
UID:10012444-1779174000-1779177600@sdtechscene.org
SUMMARY:Scared to speak in front a group? We'll help you!
DESCRIPTION:A fun\, supportive environment to practice your public speaking skills – for all levels of speakers! This is for YOU – who want to improve + polish their communication. This is for beginners who are looking for a comfortable place to start. And\, this is also for seasoned speakers looking to tune up for a presentation. \nThis is a recurring weekly meeting. https://www.meetup.com/palomar-airport-toastmasters/
URL:https://sdtechscene.org/event/scared-to-speak-in-front-a-group-well-help-you/2026-05-19/
LOCATION:6750 Paseo Del Norte\, 6750 Paseo Del Norte\, Carlsbad\, CA\, 92011\, United States
CATEGORIES:Discussions
END:VEVENT
BEGIN:VEVENT
DTSTART;TZID=America/Los_Angeles:20260526T070000
DTEND;TZID=America/Los_Angeles:20260526T080000
DTSTAMP:20260418T213228
CREATED:20250826T081405Z
LAST-MODIFIED:20250930T075024Z
UID:10012445-1779778800-1779782400@sdtechscene.org
SUMMARY:Scared to speak in front a group? We'll help you!
DESCRIPTION:A fun\, supportive environment to practice your public speaking skills – for all levels of speakers! This is for YOU – who want to improve + polish their communication. This is for beginners who are looking for a comfortable place to start. And\, this is also for seasoned speakers looking to tune up for a presentation. \nThis is a recurring weekly meeting. https://www.meetup.com/palomar-airport-toastmasters/
URL:https://sdtechscene.org/event/scared-to-speak-in-front-a-group-well-help-you/2026-05-26/
LOCATION:6750 Paseo Del Norte\, 6750 Paseo Del Norte\, Carlsbad\, CA\, 92011\, United States
CATEGORIES:Discussions
END:VEVENT
BEGIN:VEVENT
DTSTART;TZID=America/Los_Angeles:20260602T070000
DTEND;TZID=America/Los_Angeles:20260602T080000
DTSTAMP:20260418T213228
CREATED:20250826T081405Z
LAST-MODIFIED:20250930T075024Z
UID:10012446-1780383600-1780387200@sdtechscene.org
SUMMARY:Scared to speak in front a group? We'll help you!
DESCRIPTION:A fun\, supportive environment to practice your public speaking skills – for all levels of speakers! This is for YOU – who want to improve + polish their communication. This is for beginners who are looking for a comfortable place to start. And\, this is also for seasoned speakers looking to tune up for a presentation. \nThis is a recurring weekly meeting. https://www.meetup.com/palomar-airport-toastmasters/
URL:https://sdtechscene.org/event/scared-to-speak-in-front-a-group-well-help-you/2026-06-02/
LOCATION:6750 Paseo Del Norte\, 6750 Paseo Del Norte\, Carlsbad\, CA\, 92011\, United States
CATEGORIES:Discussions
END:VEVENT
BEGIN:VEVENT
DTSTART;TZID=America/Los_Angeles:20260609T070000
DTEND;TZID=America/Los_Angeles:20260609T080000
DTSTAMP:20260418T213228
CREATED:20250826T081405Z
LAST-MODIFIED:20250930T075024Z
UID:10012447-1780988400-1780992000@sdtechscene.org
SUMMARY:Scared to speak in front a group? We'll help you!
DESCRIPTION:A fun\, supportive environment to practice your public speaking skills – for all levels of speakers! This is for YOU – who want to improve + polish their communication. This is for beginners who are looking for a comfortable place to start. And\, this is also for seasoned speakers looking to tune up for a presentation. \nThis is a recurring weekly meeting. https://www.meetup.com/palomar-airport-toastmasters/
URL:https://sdtechscene.org/event/scared-to-speak-in-front-a-group-well-help-you/2026-06-09/
LOCATION:6750 Paseo Del Norte\, 6750 Paseo Del Norte\, Carlsbad\, CA\, 92011\, United States
CATEGORIES:Discussions
END:VEVENT
BEGIN:VEVENT
DTSTART;TZID=America/Los_Angeles:20260616T070000
DTEND;TZID=America/Los_Angeles:20260616T080000
DTSTAMP:20260418T213228
CREATED:20250826T081405Z
LAST-MODIFIED:20250930T075024Z
UID:10012448-1781593200-1781596800@sdtechscene.org
SUMMARY:Scared to speak in front a group? We'll help you!
DESCRIPTION:A fun\, supportive environment to practice your public speaking skills – for all levels of speakers! This is for YOU – who want to improve + polish their communication. This is for beginners who are looking for a comfortable place to start. And\, this is also for seasoned speakers looking to tune up for a presentation. \nThis is a recurring weekly meeting. https://www.meetup.com/palomar-airport-toastmasters/
URL:https://sdtechscene.org/event/scared-to-speak-in-front-a-group-well-help-you/2026-06-16/
LOCATION:6750 Paseo Del Norte\, 6750 Paseo Del Norte\, Carlsbad\, CA\, 92011\, United States
CATEGORIES:Discussions
END:VEVENT
BEGIN:VEVENT
DTSTART;TZID=America/Los_Angeles:20260623T070000
DTEND;TZID=America/Los_Angeles:20260623T080000
DTSTAMP:20260418T213228
CREATED:20250826T081405Z
LAST-MODIFIED:20250930T075024Z
UID:10012449-1782198000-1782201600@sdtechscene.org
SUMMARY:Scared to speak in front a group? We'll help you!
DESCRIPTION:A fun\, supportive environment to practice your public speaking skills – for all levels of speakers! This is for YOU – who want to improve + polish their communication. This is for beginners who are looking for a comfortable place to start. And\, this is also for seasoned speakers looking to tune up for a presentation. \nThis is a recurring weekly meeting. https://www.meetup.com/palomar-airport-toastmasters/
URL:https://sdtechscene.org/event/scared-to-speak-in-front-a-group-well-help-you/2026-06-23/
LOCATION:6750 Paseo Del Norte\, 6750 Paseo Del Norte\, Carlsbad\, CA\, 92011\, United States
CATEGORIES:Discussions
END:VEVENT
BEGIN:VEVENT
DTSTART;TZID=America/Los_Angeles:20260630T070000
DTEND;TZID=America/Los_Angeles:20260630T080000
DTSTAMP:20260418T213228
CREATED:20250826T081405Z
LAST-MODIFIED:20250930T075024Z
UID:10012450-1782802800-1782806400@sdtechscene.org
SUMMARY:Scared to speak in front a group? We'll help you!
DESCRIPTION:A fun\, supportive environment to practice your public speaking skills – for all levels of speakers! This is for YOU – who want to improve + polish their communication. This is for beginners who are looking for a comfortable place to start. And\, this is also for seasoned speakers looking to tune up for a presentation. \nThis is a recurring weekly meeting. https://www.meetup.com/palomar-airport-toastmasters/
URL:https://sdtechscene.org/event/scared-to-speak-in-front-a-group-well-help-you/2026-06-30/
LOCATION:6750 Paseo Del Norte\, 6750 Paseo Del Norte\, Carlsbad\, CA\, 92011\, United States
CATEGORIES:Discussions
END:VEVENT
BEGIN:VEVENT
DTSTART;TZID=America/Los_Angeles:20260707T070000
DTEND;TZID=America/Los_Angeles:20260707T080000
DTSTAMP:20260418T213228
CREATED:20250826T081405Z
LAST-MODIFIED:20250930T075024Z
UID:10012451-1783407600-1783411200@sdtechscene.org
SUMMARY:Scared to speak in front a group? We'll help you!
DESCRIPTION:A fun\, supportive environment to practice your public speaking skills – for all levels of speakers! This is for YOU – who want to improve + polish their communication. This is for beginners who are looking for a comfortable place to start. And\, this is also for seasoned speakers looking to tune up for a presentation. \nThis is a recurring weekly meeting. https://www.meetup.com/palomar-airport-toastmasters/
URL:https://sdtechscene.org/event/scared-to-speak-in-front-a-group-well-help-you/2026-07-07/
LOCATION:6750 Paseo Del Norte\, 6750 Paseo Del Norte\, Carlsbad\, CA\, 92011\, United States
CATEGORIES:Discussions
END:VEVENT
BEGIN:VEVENT
DTSTART;TZID=America/Los_Angeles:20260714T070000
DTEND;TZID=America/Los_Angeles:20260714T080000
DTSTAMP:20260418T213228
CREATED:20250826T081405Z
LAST-MODIFIED:20250930T075024Z
UID:10012452-1784012400-1784016000@sdtechscene.org
SUMMARY:Scared to speak in front a group? We'll help you!
DESCRIPTION:A fun\, supportive environment to practice your public speaking skills – for all levels of speakers! This is for YOU – who want to improve + polish their communication. This is for beginners who are looking for a comfortable place to start. And\, this is also for seasoned speakers looking to tune up for a presentation. \nThis is a recurring weekly meeting. https://www.meetup.com/palomar-airport-toastmasters/
URL:https://sdtechscene.org/event/scared-to-speak-in-front-a-group-well-help-you/2026-07-14/
LOCATION:6750 Paseo Del Norte\, 6750 Paseo Del Norte\, Carlsbad\, CA\, 92011\, United States
CATEGORIES:Discussions
END:VEVENT
BEGIN:VEVENT
DTSTART;TZID=America/Los_Angeles:20260721T070000
DTEND;TZID=America/Los_Angeles:20260721T080000
DTSTAMP:20260418T213228
CREATED:20250826T081405Z
LAST-MODIFIED:20250930T075024Z
UID:10012453-1784617200-1784620800@sdtechscene.org
SUMMARY:Scared to speak in front a group? We'll help you!
DESCRIPTION:A fun\, supportive environment to practice your public speaking skills – for all levels of speakers! This is for YOU – who want to improve + polish their communication. This is for beginners who are looking for a comfortable place to start. And\, this is also for seasoned speakers looking to tune up for a presentation. \nThis is a recurring weekly meeting. https://www.meetup.com/palomar-airport-toastmasters/
URL:https://sdtechscene.org/event/scared-to-speak-in-front-a-group-well-help-you/2026-07-21/
LOCATION:6750 Paseo Del Norte\, 6750 Paseo Del Norte\, Carlsbad\, CA\, 92011\, United States
CATEGORIES:Discussions
END:VEVENT
BEGIN:VEVENT
DTSTART;TZID=America/Los_Angeles:20260728T070000
DTEND;TZID=America/Los_Angeles:20260728T080000
DTSTAMP:20260418T213228
CREATED:20250826T081405Z
LAST-MODIFIED:20250930T075024Z
UID:10012454-1785222000-1785225600@sdtechscene.org
SUMMARY:Scared to speak in front a group? We'll help you!
DESCRIPTION:A fun\, supportive environment to practice your public speaking skills – for all levels of speakers! This is for YOU – who want to improve + polish their communication. This is for beginners who are looking for a comfortable place to start. And\, this is also for seasoned speakers looking to tune up for a presentation. \nThis is a recurring weekly meeting. https://www.meetup.com/palomar-airport-toastmasters/
URL:https://sdtechscene.org/event/scared-to-speak-in-front-a-group-well-help-you/2026-07-28/
LOCATION:6750 Paseo Del Norte\, 6750 Paseo Del Norte\, Carlsbad\, CA\, 92011\, United States
CATEGORIES:Discussions
END:VEVENT
BEGIN:VEVENT
DTSTART;TZID=America/Los_Angeles:20260804T070000
DTEND;TZID=America/Los_Angeles:20260804T080000
DTSTAMP:20260418T213228
CREATED:20250826T081405Z
LAST-MODIFIED:20250930T075024Z
UID:10012455-1785826800-1785830400@sdtechscene.org
SUMMARY:Scared to speak in front a group? We'll help you!
DESCRIPTION:A fun\, supportive environment to practice your public speaking skills – for all levels of speakers! This is for YOU – who want to improve + polish their communication. This is for beginners who are looking for a comfortable place to start. And\, this is also for seasoned speakers looking to tune up for a presentation. \nThis is a recurring weekly meeting. https://www.meetup.com/palomar-airport-toastmasters/
URL:https://sdtechscene.org/event/scared-to-speak-in-front-a-group-well-help-you/2026-08-04/
LOCATION:6750 Paseo Del Norte\, 6750 Paseo Del Norte\, Carlsbad\, CA\, 92011\, United States
CATEGORIES:Discussions
END:VEVENT
BEGIN:VEVENT
DTSTART;TZID=America/Los_Angeles:20260811T070000
DTEND;TZID=America/Los_Angeles:20260811T080000
DTSTAMP:20260418T213228
CREATED:20250826T081405Z
LAST-MODIFIED:20250930T075024Z
UID:10012456-1786431600-1786435200@sdtechscene.org
SUMMARY:Scared to speak in front a group? We'll help you!
DESCRIPTION:A fun\, supportive environment to practice your public speaking skills – for all levels of speakers! This is for YOU – who want to improve + polish their communication. This is for beginners who are looking for a comfortable place to start. And\, this is also for seasoned speakers looking to tune up for a presentation. \nThis is a recurring weekly meeting. https://www.meetup.com/palomar-airport-toastmasters/
URL:https://sdtechscene.org/event/scared-to-speak-in-front-a-group-well-help-you/2026-08-11/
LOCATION:6750 Paseo Del Norte\, 6750 Paseo Del Norte\, Carlsbad\, CA\, 92011\, United States
CATEGORIES:Discussions
END:VEVENT
BEGIN:VEVENT
DTSTART;TZID=America/Los_Angeles:20260818T070000
DTEND;TZID=America/Los_Angeles:20260818T080000
DTSTAMP:20260418T213228
CREATED:20250826T081405Z
LAST-MODIFIED:20250930T075024Z
UID:10012457-1787036400-1787040000@sdtechscene.org
SUMMARY:Scared to speak in front a group? We'll help you!
DESCRIPTION:A fun\, supportive environment to practice your public speaking skills – for all levels of speakers! This is for YOU – who want to improve + polish their communication. This is for beginners who are looking for a comfortable place to start. And\, this is also for seasoned speakers looking to tune up for a presentation. \nThis is a recurring weekly meeting. https://www.meetup.com/palomar-airport-toastmasters/
URL:https://sdtechscene.org/event/scared-to-speak-in-front-a-group-well-help-you/2026-08-18/
LOCATION:6750 Paseo Del Norte\, 6750 Paseo Del Norte\, Carlsbad\, CA\, 92011\, United States
CATEGORIES:Discussions
END:VEVENT
BEGIN:VEVENT
DTSTART;TZID=America/Los_Angeles:20260825T070000
DTEND;TZID=America/Los_Angeles:20260825T080000
DTSTAMP:20260418T213228
CREATED:20250826T081405Z
LAST-MODIFIED:20250930T075024Z
UID:10012458-1787641200-1787644800@sdtechscene.org
SUMMARY:Scared to speak in front a group? We'll help you!
DESCRIPTION:A fun\, supportive environment to practice your public speaking skills – for all levels of speakers! This is for YOU – who want to improve + polish their communication. This is for beginners who are looking for a comfortable place to start. And\, this is also for seasoned speakers looking to tune up for a presentation. \nThis is a recurring weekly meeting. https://www.meetup.com/palomar-airport-toastmasters/
URL:https://sdtechscene.org/event/scared-to-speak-in-front-a-group-well-help-you/2026-08-25/
LOCATION:6750 Paseo Del Norte\, 6750 Paseo Del Norte\, Carlsbad\, CA\, 92011\, United States
CATEGORIES:Discussions
END:VEVENT
BEGIN:VEVENT
DTSTART;TZID=America/Los_Angeles:20260901T070000
DTEND;TZID=America/Los_Angeles:20260901T080000
DTSTAMP:20260418T213228
CREATED:20250826T081405Z
LAST-MODIFIED:20250930T075024Z
UID:10012459-1788246000-1788249600@sdtechscene.org
SUMMARY:Scared to speak in front a group? We'll help you!
DESCRIPTION:A fun\, supportive environment to practice your public speaking skills – for all levels of speakers! This is for YOU – who want to improve + polish their communication. This is for beginners who are looking for a comfortable place to start. And\, this is also for seasoned speakers looking to tune up for a presentation. \nThis is a recurring weekly meeting. https://www.meetup.com/palomar-airport-toastmasters/
URL:https://sdtechscene.org/event/scared-to-speak-in-front-a-group-well-help-you/2026-09-01/
LOCATION:6750 Paseo Del Norte\, 6750 Paseo Del Norte\, Carlsbad\, CA\, 92011\, United States
CATEGORIES:Discussions
END:VEVENT
BEGIN:VEVENT
DTSTART;TZID=America/Los_Angeles:20260908T070000
DTEND;TZID=America/Los_Angeles:20260908T080000
DTSTAMP:20260418T213228
CREATED:20250826T081405Z
LAST-MODIFIED:20250930T075024Z
UID:10012460-1788850800-1788854400@sdtechscene.org
SUMMARY:Scared to speak in front a group? We'll help you!
DESCRIPTION:A fun\, supportive environment to practice your public speaking skills – for all levels of speakers! This is for YOU – who want to improve + polish their communication. This is for beginners who are looking for a comfortable place to start. And\, this is also for seasoned speakers looking to tune up for a presentation. \nThis is a recurring weekly meeting. https://www.meetup.com/palomar-airport-toastmasters/
URL:https://sdtechscene.org/event/scared-to-speak-in-front-a-group-well-help-you/2026-09-08/
LOCATION:6750 Paseo Del Norte\, 6750 Paseo Del Norte\, Carlsbad\, CA\, 92011\, United States
CATEGORIES:Discussions
END:VEVENT
BEGIN:VEVENT
DTSTART;TZID=America/Los_Angeles:20260915T070000
DTEND;TZID=America/Los_Angeles:20260915T080000
DTSTAMP:20260418T213228
CREATED:20250826T081405Z
LAST-MODIFIED:20250930T075024Z
UID:10012461-1789455600-1789459200@sdtechscene.org
SUMMARY:Scared to speak in front a group? We'll help you!
DESCRIPTION:A fun\, supportive environment to practice your public speaking skills – for all levels of speakers! This is for YOU – who want to improve + polish their communication. This is for beginners who are looking for a comfortable place to start. And\, this is also for seasoned speakers looking to tune up for a presentation. \nThis is a recurring weekly meeting. https://www.meetup.com/palomar-airport-toastmasters/
URL:https://sdtechscene.org/event/scared-to-speak-in-front-a-group-well-help-you/2026-09-15/
LOCATION:6750 Paseo Del Norte\, 6750 Paseo Del Norte\, Carlsbad\, CA\, 92011\, United States
CATEGORIES:Discussions
END:VEVENT
BEGIN:VEVENT
DTSTART;TZID=America/Los_Angeles:20260922T070000
DTEND;TZID=America/Los_Angeles:20260922T080000
DTSTAMP:20260418T213228
CREATED:20250826T081405Z
LAST-MODIFIED:20250930T075024Z
UID:10012462-1790060400-1790064000@sdtechscene.org
SUMMARY:Scared to speak in front a group? We'll help you!
DESCRIPTION:A fun\, supportive environment to practice your public speaking skills – for all levels of speakers! This is for YOU – who want to improve + polish their communication. This is for beginners who are looking for a comfortable place to start. And\, this is also for seasoned speakers looking to tune up for a presentation. \nThis is a recurring weekly meeting. https://www.meetup.com/palomar-airport-toastmasters/
URL:https://sdtechscene.org/event/scared-to-speak-in-front-a-group-well-help-you/2026-09-22/
LOCATION:6750 Paseo Del Norte\, 6750 Paseo Del Norte\, Carlsbad\, CA\, 92011\, United States
CATEGORIES:Discussions
END:VEVENT
BEGIN:VEVENT
DTSTART;TZID=America/Los_Angeles:20260929T070000
DTEND;TZID=America/Los_Angeles:20260929T080000
DTSTAMP:20260418T213228
CREATED:20250826T081405Z
LAST-MODIFIED:20250930T075024Z
UID:10012463-1790665200-1790668800@sdtechscene.org
SUMMARY:Scared to speak in front a group? We'll help you!
DESCRIPTION:A fun\, supportive environment to practice your public speaking skills – for all levels of speakers! This is for YOU – who want to improve + polish their communication. This is for beginners who are looking for a comfortable place to start. And\, this is also for seasoned speakers looking to tune up for a presentation. \nThis is a recurring weekly meeting. https://www.meetup.com/palomar-airport-toastmasters/
URL:https://sdtechscene.org/event/scared-to-speak-in-front-a-group-well-help-you/2026-09-29/
LOCATION:6750 Paseo Del Norte\, 6750 Paseo Del Norte\, Carlsbad\, CA\, 92011\, United States
CATEGORIES:Discussions
END:VEVENT
BEGIN:VEVENT
DTSTART;TZID=America/Los_Angeles:20261006T070000
DTEND;TZID=America/Los_Angeles:20261006T080000
DTSTAMP:20260418T213228
CREATED:20250826T081405Z
LAST-MODIFIED:20250930T075024Z
UID:10012464-1791270000-1791273600@sdtechscene.org
SUMMARY:Scared to speak in front a group? We'll help you!
DESCRIPTION:A fun\, supportive environment to practice your public speaking skills – for all levels of speakers! This is for YOU – who want to improve + polish their communication. This is for beginners who are looking for a comfortable place to start. And\, this is also for seasoned speakers looking to tune up for a presentation. \nThis is a recurring weekly meeting. https://www.meetup.com/palomar-airport-toastmasters/
URL:https://sdtechscene.org/event/scared-to-speak-in-front-a-group-well-help-you/2026-10-06/
LOCATION:6750 Paseo Del Norte\, 6750 Paseo Del Norte\, Carlsbad\, CA\, 92011\, United States
CATEGORIES:Discussions
END:VEVENT
BEGIN:VEVENT
DTSTART;TZID=America/Los_Angeles:20261013T070000
DTEND;TZID=America/Los_Angeles:20261013T080000
DTSTAMP:20260418T213228
CREATED:20250826T081405Z
LAST-MODIFIED:20250930T075024Z
UID:10012465-1791874800-1791878400@sdtechscene.org
SUMMARY:Scared to speak in front a group? We'll help you!
DESCRIPTION:A fun\, supportive environment to practice your public speaking skills – for all levels of speakers! This is for YOU – who want to improve + polish their communication. This is for beginners who are looking for a comfortable place to start. And\, this is also for seasoned speakers looking to tune up for a presentation. \nThis is a recurring weekly meeting. https://www.meetup.com/palomar-airport-toastmasters/
URL:https://sdtechscene.org/event/scared-to-speak-in-front-a-group-well-help-you/2026-10-13/
LOCATION:6750 Paseo Del Norte\, 6750 Paseo Del Norte\, Carlsbad\, CA\, 92011\, United States
CATEGORIES:Discussions
END:VEVENT
BEGIN:VEVENT
DTSTART;TZID=America/Los_Angeles:20261020T070000
DTEND;TZID=America/Los_Angeles:20261020T080000
DTSTAMP:20260418T213228
CREATED:20250826T081405Z
LAST-MODIFIED:20250930T075024Z
UID:10012466-1792479600-1792483200@sdtechscene.org
SUMMARY:Scared to speak in front a group? We'll help you!
DESCRIPTION:A fun\, supportive environment to practice your public speaking skills – for all levels of speakers! This is for YOU – who want to improve + polish their communication. This is for beginners who are looking for a comfortable place to start. And\, this is also for seasoned speakers looking to tune up for a presentation. \nThis is a recurring weekly meeting. https://www.meetup.com/palomar-airport-toastmasters/
URL:https://sdtechscene.org/event/scared-to-speak-in-front-a-group-well-help-you/2026-10-20/
LOCATION:6750 Paseo Del Norte\, 6750 Paseo Del Norte\, Carlsbad\, CA\, 92011\, United States
CATEGORIES:Discussions
END:VEVENT
BEGIN:VEVENT
DTSTART;TZID=America/Los_Angeles:20261027T070000
DTEND;TZID=America/Los_Angeles:20261027T080000
DTSTAMP:20260418T213228
CREATED:20250826T081405Z
LAST-MODIFIED:20250930T075024Z
UID:10012467-1793084400-1793088000@sdtechscene.org
SUMMARY:Scared to speak in front a group? We'll help you!
DESCRIPTION:A fun\, supportive environment to practice your public speaking skills – for all levels of speakers! This is for YOU – who want to improve + polish their communication. This is for beginners who are looking for a comfortable place to start. And\, this is also for seasoned speakers looking to tune up for a presentation. \nThis is a recurring weekly meeting. https://www.meetup.com/palomar-airport-toastmasters/
URL:https://sdtechscene.org/event/scared-to-speak-in-front-a-group-well-help-you/2026-10-27/
LOCATION:6750 Paseo Del Norte\, 6750 Paseo Del Norte\, Carlsbad\, CA\, 92011\, United States
CATEGORIES:Discussions
END:VEVENT
BEGIN:VEVENT
DTSTART;TZID=America/Los_Angeles:20261103T070000
DTEND;TZID=America/Los_Angeles:20261103T080000
DTSTAMP:20260418T213228
CREATED:20250826T081405Z
LAST-MODIFIED:20250930T075024Z
UID:10012468-1793689200-1793692800@sdtechscene.org
SUMMARY:Scared to speak in front a group? We'll help you!
DESCRIPTION:A fun\, supportive environment to practice your public speaking skills – for all levels of speakers! This is for YOU – who want to improve + polish their communication. This is for beginners who are looking for a comfortable place to start. And\, this is also for seasoned speakers looking to tune up for a presentation. \nThis is a recurring weekly meeting. https://www.meetup.com/palomar-airport-toastmasters/
URL:https://sdtechscene.org/event/scared-to-speak-in-front-a-group-well-help-you/2026-11-03/
LOCATION:6750 Paseo Del Norte\, 6750 Paseo Del Norte\, Carlsbad\, CA\, 92011\, United States
CATEGORIES:Discussions
END:VEVENT
BEGIN:VEVENT
DTSTART;TZID=America/Los_Angeles:20261110T070000
DTEND;TZID=America/Los_Angeles:20261110T080000
DTSTAMP:20260418T213228
CREATED:20250826T081405Z
LAST-MODIFIED:20250930T075024Z
UID:10012469-1794294000-1794297600@sdtechscene.org
SUMMARY:Scared to speak in front a group? We'll help you!
DESCRIPTION:A fun\, supportive environment to practice your public speaking skills – for all levels of speakers! This is for YOU – who want to improve + polish their communication. This is for beginners who are looking for a comfortable place to start. And\, this is also for seasoned speakers looking to tune up for a presentation. \nThis is a recurring weekly meeting. https://www.meetup.com/palomar-airport-toastmasters/
URL:https://sdtechscene.org/event/scared-to-speak-in-front-a-group-well-help-you/2026-11-10/
LOCATION:6750 Paseo Del Norte\, 6750 Paseo Del Norte\, Carlsbad\, CA\, 92011\, United States
CATEGORIES:Discussions
END:VEVENT
END:VCALENDAR