BEGIN:VCALENDAR
VERSION:2.0
PRODID:-//San Diego Tech Scene - ECPv6.15.20//NONSGML v1.0//EN
CALSCALE:GREGORIAN
METHOD:PUBLISH
X-WR-CALNAME:San Diego Tech Scene
X-ORIGINAL-URL:https://sdtechscene.org
X-WR-CALDESC:Events for San Diego Tech Scene
REFRESH-INTERVAL;VALUE=DURATION:PT1H
X-Robots-Tag:noindex
X-PUBLISHED-TTL:PT1H
BEGIN:VTIMEZONE
TZID:America/Los_Angeles
BEGIN:DAYLIGHT
TZOFFSETFROM:-0800
TZOFFSETTO:-0700
TZNAME:PDT
DTSTART:20250309T100000
END:DAYLIGHT
BEGIN:STANDARD
TZOFFSETFROM:-0700
TZOFFSETTO:-0800
TZNAME:PST
DTSTART:20251102T090000
END:STANDARD
BEGIN:DAYLIGHT
TZOFFSETFROM:-0800
TZOFFSETTO:-0700
TZNAME:PDT
DTSTART:20260308T100000
END:DAYLIGHT
BEGIN:STANDARD
TZOFFSETFROM:-0700
TZOFFSETTO:-0800
TZNAME:PST
DTSTART:20261101T090000
END:STANDARD
BEGIN:DAYLIGHT
TZOFFSETFROM:-0800
TZOFFSETTO:-0700
TZNAME:PDT
DTSTART:20270314T100000
END:DAYLIGHT
BEGIN:STANDARD
TZOFFSETFROM:-0700
TZOFFSETTO:-0800
TZNAME:PST
DTSTART:20271107T090000
END:STANDARD
END:VTIMEZONE
BEGIN:VEVENT
DTSTART;TZID=America/Los_Angeles:20260519T180000
DTEND;TZID=America/Los_Angeles:20260519T210000
DTSTAMP:20260423T012400
CREATED:20260316T072727Z
LAST-MODIFIED:20260421T072153Z
UID:10018245-1779213600-1779224400@sdtechscene.org
SUMMARY:2026 San Diego Tech Beer!!
DESCRIPTION:RSVP NOW for Tech Beer! \nSan Diego Tech Coffee’s Tech Beer is held at the “Garten” of Deft Brewing! \nJoin the enthusiastic crowd of startup founders\, tech entrepreneurs\, crypto enthusiasts\, developers and others involved in the San Diego startup community to socialize\, network and enjoy each other and talk about what you’re doing at our monthly Tech Beer gathering. \nThere will be great beer\, mead\, wine and wood fired pizza to enjoy along with the great people and conversations. \nSo\, there’s no excuse not to hoist a good beverage while enjoying great pizza with good company at this month’s SD Tech Beer! \nRSVP now while you’re here!
URL:https://sdtechscene.org/event/2026-san-diego-tech-beer/2026-05-19/
LOCATION:Deft Brewing\, 5328 Banks St A\, San Diego\, CA\, 92110\, United States
CATEGORIES:Entrepreneurs,Networking,Startups & Founders
END:VEVENT
BEGIN:VEVENT
DTSTART;TZID=America/Los_Angeles:20260616T180000
DTEND;TZID=America/Los_Angeles:20260616T210000
DTSTAMP:20260423T012400
CREATED:20260316T072727Z
LAST-MODIFIED:20260421T072153Z
UID:10018246-1781632800-1781643600@sdtechscene.org
SUMMARY:2026 San Diego Tech Beer!!
DESCRIPTION:RSVP NOW for Tech Beer! \nSan Diego Tech Coffee’s Tech Beer is held at the “Garten” of Deft Brewing! \nJoin the enthusiastic crowd of startup founders\, tech entrepreneurs\, crypto enthusiasts\, developers and others involved in the San Diego startup community to socialize\, network and enjoy each other and talk about what you’re doing at our monthly Tech Beer gathering. \nThere will be great beer\, mead\, wine and wood fired pizza to enjoy along with the great people and conversations. \nSo\, there’s no excuse not to hoist a good beverage while enjoying great pizza with good company at this month’s SD Tech Beer! \nRSVP now while you’re here!
URL:https://sdtechscene.org/event/2026-san-diego-tech-beer/2026-06-16/
LOCATION:Deft Brewing\, 5328 Banks St A\, San Diego\, CA\, 92110\, United States
CATEGORIES:Entrepreneurs,Networking,Startups & Founders
END:VEVENT
BEGIN:VEVENT
DTSTART;TZID=America/Los_Angeles:20260721T180000
DTEND;TZID=America/Los_Angeles:20260721T210000
DTSTAMP:20260423T012400
CREATED:20260316T072727Z
LAST-MODIFIED:20260421T072153Z
UID:10018247-1784656800-1784667600@sdtechscene.org
SUMMARY:2026 San Diego Tech Beer!!
DESCRIPTION:RSVP NOW for Tech Beer! \nSan Diego Tech Coffee’s Tech Beer is held at the “Garten” of Deft Brewing! \nJoin the enthusiastic crowd of startup founders\, tech entrepreneurs\, crypto enthusiasts\, developers and others involved in the San Diego startup community to socialize\, network and enjoy each other and talk about what you’re doing at our monthly Tech Beer gathering. \nThere will be great beer\, mead\, wine and wood fired pizza to enjoy along with the great people and conversations. \nSo\, there’s no excuse not to hoist a good beverage while enjoying great pizza with good company at this month’s SD Tech Beer! \nRSVP now while you’re here!
URL:https://sdtechscene.org/event/2026-san-diego-tech-beer/2026-07-21/
LOCATION:Deft Brewing\, 5328 Banks St A\, San Diego\, CA\, 92110\, United States
CATEGORIES:Entrepreneurs,Networking,Startups & Founders
END:VEVENT
BEGIN:VEVENT
DTSTART;TZID=America/Los_Angeles:20260818T180000
DTEND;TZID=America/Los_Angeles:20260818T210000
DTSTAMP:20260423T012400
CREATED:20260316T072727Z
LAST-MODIFIED:20260421T072153Z
UID:10018248-1787076000-1787086800@sdtechscene.org
SUMMARY:2026 San Diego Tech Beer!!
DESCRIPTION:RSVP NOW for Tech Beer! \nSan Diego Tech Coffee’s Tech Beer is held at the “Garten” of Deft Brewing! \nJoin the enthusiastic crowd of startup founders\, tech entrepreneurs\, crypto enthusiasts\, developers and others involved in the San Diego startup community to socialize\, network and enjoy each other and talk about what you’re doing at our monthly Tech Beer gathering. \nThere will be great beer\, mead\, wine and wood fired pizza to enjoy along with the great people and conversations. \nSo\, there’s no excuse not to hoist a good beverage while enjoying great pizza with good company at this month’s SD Tech Beer! \nRSVP now while you’re here!
URL:https://sdtechscene.org/event/2026-san-diego-tech-beer/2026-08-18/
LOCATION:Deft Brewing\, 5328 Banks St A\, San Diego\, CA\, 92110\, United States
CATEGORIES:Entrepreneurs,Networking,Startups & Founders
END:VEVENT
BEGIN:VEVENT
DTSTART;TZID=America/Los_Angeles:20260915T180000
DTEND;TZID=America/Los_Angeles:20260915T210000
DTSTAMP:20260423T012400
CREATED:20260316T072727Z
LAST-MODIFIED:20260421T072153Z
UID:10018249-1789495200-1789506000@sdtechscene.org
SUMMARY:2026 San Diego Tech Beer!!
DESCRIPTION:RSVP NOW for Tech Beer! \nSan Diego Tech Coffee’s Tech Beer is held at the “Garten” of Deft Brewing! \nJoin the enthusiastic crowd of startup founders\, tech entrepreneurs\, crypto enthusiasts\, developers and others involved in the San Diego startup community to socialize\, network and enjoy each other and talk about what you’re doing at our monthly Tech Beer gathering. \nThere will be great beer\, mead\, wine and wood fired pizza to enjoy along with the great people and conversations. \nSo\, there’s no excuse not to hoist a good beverage while enjoying great pizza with good company at this month’s SD Tech Beer! \nRSVP now while you’re here!
URL:https://sdtechscene.org/event/2026-san-diego-tech-beer/2026-09-15/
LOCATION:Deft Brewing\, 5328 Banks St A\, San Diego\, CA\, 92110\, United States
CATEGORIES:Entrepreneurs,Networking,Startups & Founders
END:VEVENT
BEGIN:VEVENT
DTSTART;TZID=America/Los_Angeles:20261020T180000
DTEND;TZID=America/Los_Angeles:20261020T210000
DTSTAMP:20260423T012400
CREATED:20260316T072727Z
LAST-MODIFIED:20260421T072153Z
UID:10018250-1792519200-1792530000@sdtechscene.org
SUMMARY:2026 San Diego Tech Beer!!
DESCRIPTION:RSVP NOW for Tech Beer! \nSan Diego Tech Coffee’s Tech Beer is held at the “Garten” of Deft Brewing! \nJoin the enthusiastic crowd of startup founders\, tech entrepreneurs\, crypto enthusiasts\, developers and others involved in the San Diego startup community to socialize\, network and enjoy each other and talk about what you’re doing at our monthly Tech Beer gathering. \nThere will be great beer\, mead\, wine and wood fired pizza to enjoy along with the great people and conversations. \nSo\, there’s no excuse not to hoist a good beverage while enjoying great pizza with good company at this month’s SD Tech Beer! \nRSVP now while you’re here!
URL:https://sdtechscene.org/event/2026-san-diego-tech-beer/2026-10-20/
LOCATION:Deft Brewing\, 5328 Banks St A\, San Diego\, CA\, 92110\, United States
CATEGORIES:Entrepreneurs,Networking,Startups & Founders
END:VEVENT
END:VCALENDAR