BEGIN:VCALENDAR
VERSION:2.0
PRODID:-//San Diego Tech Scene - ECPv6.15.20//NONSGML v1.0//EN
CALSCALE:GREGORIAN
METHOD:PUBLISH
X-WR-CALNAME:San Diego Tech Scene
X-ORIGINAL-URL:https://sdtechscene.org
X-WR-CALDESC:Events for San Diego Tech Scene
REFRESH-INTERVAL;VALUE=DURATION:PT1H
X-Robots-Tag:noindex
X-PUBLISHED-TTL:PT1H
BEGIN:VTIMEZONE
TZID:America/Los_Angeles
BEGIN:DAYLIGHT
TZOFFSETFROM:-0800
TZOFFSETTO:-0700
TZNAME:PDT
DTSTART:20250309T100000
END:DAYLIGHT
BEGIN:STANDARD
TZOFFSETFROM:-0700
TZOFFSETTO:-0800
TZNAME:PST
DTSTART:20251102T090000
END:STANDARD
BEGIN:DAYLIGHT
TZOFFSETFROM:-0800
TZOFFSETTO:-0700
TZNAME:PDT
DTSTART:20260308T100000
END:DAYLIGHT
BEGIN:STANDARD
TZOFFSETFROM:-0700
TZOFFSETTO:-0800
TZNAME:PST
DTSTART:20261101T090000
END:STANDARD
BEGIN:DAYLIGHT
TZOFFSETFROM:-0800
TZOFFSETTO:-0700
TZNAME:PDT
DTSTART:20270314T100000
END:DAYLIGHT
BEGIN:STANDARD
TZOFFSETFROM:-0700
TZOFFSETTO:-0800
TZNAME:PST
DTSTART:20271107T090000
END:STANDARD
END:VTIMEZONE
BEGIN:VEVENT
DTSTART;TZID=America/Los_Angeles:20260127T173000
DTEND;TZID=America/Los_Angeles:20260127T193000
DTSTAMP:20260424T032610
CREATED:20260126T062256Z
LAST-MODIFIED:20260126T062256Z
UID:10016440-1769535000-1769542200@sdtechscene.org
SUMMARY:Save the Date for CSA San Diego Jan 2026 Event Sponsored by Trace3
DESCRIPTION:Hello and happy new year! Welcome to another exciting year of CSA San Diego monthly events. \nCome and join us for our upcoming co-hosted event with ISSA and sponsored by Trace3. Trace3 is an IT consulting organization specializing in AI\, data\, cloud and cybersecurity\, with the unique ability to harness emerging trends to help clients realize value from their technology investments. \nPlease be sure to RSVP. We have limited capacity\, so please be courteous and only RSVP if you plan to attend. \nSpeaker: Billy Norwood\, MBA\, CISO\, and Steven Adegbenle\, Cloud Infrastructure Security Engineer from FFF Enterprises \nTopic: Billy and Steven will be joining us to for an interactive session to discuss\, AI Governance- Why it is needed\, how to roll it out\, and lessons learned. \nParking Info: Parking IS NOT free on the site garage. However\, there is free off-street parking.
URL:https://sdtechscene.org/event/save-the-date-for-csa-san-diego-jan-2026-event-sponsored-by-trace3/
LOCATION:4655 Executive Dr\, 4655 Executive Dr\, San Diego\, CA\, 92121\, United States
CATEGORIES:AI,Cybersecurity
END:VEVENT
END:VCALENDAR