BEGIN:VCALENDAR
VERSION:2.0
PRODID:-//San Diego Tech Scene - ECPv6.15.20//NONSGML v1.0//EN
CALSCALE:GREGORIAN
METHOD:PUBLISH
X-WR-CALNAME:San Diego Tech Scene
X-ORIGINAL-URL:https://sdtechscene.org
X-WR-CALDESC:Events for San Diego Tech Scene
REFRESH-INTERVAL;VALUE=DURATION:PT1H
X-Robots-Tag:noindex
X-PUBLISHED-TTL:PT1H
BEGIN:VTIMEZONE
TZID:America/Los_Angeles
BEGIN:DAYLIGHT
TZOFFSETFROM:-0800
TZOFFSETTO:-0700
TZNAME:PDT
DTSTART:20250309T100000
END:DAYLIGHT
BEGIN:STANDARD
TZOFFSETFROM:-0700
TZOFFSETTO:-0800
TZNAME:PST
DTSTART:20251102T090000
END:STANDARD
BEGIN:DAYLIGHT
TZOFFSETFROM:-0800
TZOFFSETTO:-0700
TZNAME:PDT
DTSTART:20260308T100000
END:DAYLIGHT
BEGIN:STANDARD
TZOFFSETFROM:-0700
TZOFFSETTO:-0800
TZNAME:PST
DTSTART:20261101T090000
END:STANDARD
BEGIN:DAYLIGHT
TZOFFSETFROM:-0800
TZOFFSETTO:-0700
TZNAME:PDT
DTSTART:20270314T100000
END:DAYLIGHT
BEGIN:STANDARD
TZOFFSETFROM:-0700
TZOFFSETTO:-0800
TZNAME:PST
DTSTART:20271107T090000
END:STANDARD
END:VTIMEZONE
BEGIN:VEVENT
DTSTART;TZID=America/Los_Angeles:20260324T090000
DTEND;TZID=America/Los_Angeles:20260324T100000
DTSTAMP:20260423T012359
CREATED:20251209T053813Z
LAST-MODIFIED:20251209T053842Z
UID:10013922-1774342800-1774346400@sdtechscene.org
SUMMARY:Tuesday Team Up
DESCRIPTION:The Group is growing and we are excited to announce the launch of Tuesday Team Up at Maya Moon Collective at 3349 Adams Ave\, San Diego\, CA 92116 at 9:00 am. This new chapter is more than just a gathering. It is a chance to expand our movement of empowerment\, inspiration\, and support into the heart of San Diego. \nWhether you cannot always make it to Feel Good Fridays in Encinitas or you are ready to double down on connection by joining both\, Tuesday Team Up was created for you. It is a place where authentic conversations spark new opportunities\, where encouragement turns into action\, and where people come together to lift each other higher both personally and professionally. \nOur vision is to create spaces throughout San Diego where everyone feels they belong\, where ideas become reality\, and where community becomes the foundation for growth. Tuesday Team Up is another step toward that vision and we would love for you to be part of it.
URL:https://sdtechscene.org/event/tuesday-team-up/2026-03-24/
LOCATION:Maya Moon Collective\, 3349 Adams Avenue\, San Diego\, CA\, 92116\, United States
CATEGORIES:Community Building,Conversation,Networking
END:VEVENT
BEGIN:VEVENT
DTSTART;TZID=America/Los_Angeles:20260325T120000
DTEND;TZID=America/Los_Angeles:20260325T150000
DTSTAMP:20260423T012359
CREATED:20260325T034853Z
LAST-MODIFIED:20260325T034853Z
UID:10017289-1774440000-1774450800@sdtechscene.org
SUMMARY:Startup Quarters: Founder Focus
DESCRIPTION:Zero Distraction. Pure Execution. \nThis is not a networking event.\nThis is not a pitch night.\nThis is not a workshop. \nThis is deep work. \nFounder Focus is a dedicated execution session designed for builders\, founders\, creators\, and operators who need uninterrupted time to move the needle on what actually matters. \nAt Startup Quarters\, we’re creating a high-performance environment engineered for clarity\, momentum\, and real progress. \nWhat This Is: \n2–3 hours of structured\, distraction-free work \nA room full of serious builders in execution mode \nCalm\, focused atmosphere \nIntentional accountability \nZero small talk during work blocks \nWhat This Is NOT: \n❌ No sales calls \n❌ No pitching \n❌ No random coffee chats \n❌ No “quick questions” \n❌ No bullshit \nWhen you walk in\, you’re here to build. \nWho It’s For \nStartup founders \nTechnical builders \nIndie hackers \nDesigners \nWriters \nStudents in serious build mode \nAnyone tired of “busy” and ready for progress
URL:https://sdtechscene.org/event/startup-quarters-founder-focus/
LOCATION:Ansir Innovation Center\, 7670 Opportunity Rd #255\, San Diego\, CA\, 92111\, United States
CATEGORIES:Community Building,Startups & Founders
END:VEVENT
BEGIN:VEVENT
DTSTART;TZID=America/Los_Angeles:20260325T190000
DTEND;TZID=America/Los_Angeles:20260325T220000
DTSTAMP:20260423T012359
CREATED:20251211T051726Z
LAST-MODIFIED:20260323T035206Z
UID:10014190-1774465200-1774476000@sdtechscene.org
SUMMARY:March Mingle XX
DESCRIPTION:Mark your calendar for March 25th\, 2026. It’s SD Tech Scene’s main event March Mingle. Each year we get 500 of our friends together for an evening of networking \, food and drinks. \nJoin the communality and make sure to RSVP as tickets will sell out.
URL:https://sdtechscene.org/event/march-mingle-xx/
LOCATION:Novo Brazil Brewing Mission Valley\, 1640 Camino Del Rio N Suite 341\, San Diego\, CA\, 92108\, United States
CATEGORIES:Community Building,Networking,Startups & Founders
END:VEVENT
BEGIN:VEVENT
DTSTART;TZID=America/Los_Angeles:20260326T170000
DTEND;TZID=America/Los_Angeles:20260326T190000
DTSTAMP:20260423T012359
CREATED:20251030T064526Z
LAST-MODIFIED:20260326T074559Z
UID:10013162-1774544400-1774551600@sdtechscene.org
SUMMARY:AI meetup (San Diego): GenAI\, LLMs\, and Agents
DESCRIPTION:Welcome to the AI meetup in San Diego\, in collaboration with Google Cloud San Diego Meetup . Join us for deep dive tech talks on AI\, GenAI\, LLMs and Agents\, hands-on experiences on code labs\, workshops\, and networking with speakers and fellow developers. \nAgenda:\n– 5:00pm~5:30pm: Checkin\, food/drink and networking\n– 5:30pm~5:40pm: Welcome\, Community update\n– 5:40pm~7:00pm: Tech talks and Q&A \nTech talk: Leveraging the A2A Protocol: The What\, When\, and Why\nSpeaker: Tommy Wagner (Google) \nAbstract: In this talk\, we’ll be diving into the Agent 2 Agent protocol in order to answer three simple questions. What is A2A? When should I use A2A? Why should I use A2A?\nTo answer these questions\, we must first take a look into the core functionality of A2A and what it does. With this in mind\, we will then investigate what kind of scenarios A2A lends itself to solve. Finally\, we will compare A2A to alternative solutions. \nSpeakers/Topics:\nStay tuned as we are updating speakers and schedules. If you have a keen interest in speaking to our community\, we invite you to submit topics for consideration: Submit Topics \nVenue:\nRegister for the full address. \nSponsors:\nWe are actively seeking sponsors to support AI developers community.  Whether it is by offering venue spaces\, providing food\, or cash sponsorship. Sponsors will not only speak at the meetups\, receive prominent recognition\, but also gain exposure to our extensive membership base of 4\,000+ AI developers in San Diego and 500K+ worldwide. \nLocal and Global AI Community on Discord\nJoin us on discord for local and global AI tech community:\n– Events chat: chat and connect with speakers and global and local attendees;\n– Learning AI: events\, learning materials\, study groups;\n– Startups: innovation\, projects collaborations\, founders/co-founders;\n– Jobs and Careers: job openings\, post resumes\, hiring managers;
URL:https://sdtechscene.org/event/ai-meetup-san-diego-genai-llms-and-agents/
LOCATION:San Diego\, San Diego\, California\, United States
CATEGORIES:AI,Community Building,Networking
END:VEVENT
BEGIN:VEVENT
DTSTART;TZID=America/Los_Angeles:20260326T170000
DTEND;TZID=America/Los_Angeles:20260326T200000
DTSTAMP:20260423T012359
CREATED:20260326T073702Z
LAST-MODIFIED:20260326T073702Z
UID:10017300-1774544400-1774555200@sdtechscene.org
SUMMARY:San Diego County Hispanic Chamber March Mixer
DESCRIPTION:Enjoy an evening of networking\, collaboration\, and good vibes as you connect with professionals from across our Hispanic business community. \n\n\n\n\nJoin us for our March Mixer by the San Diego County Hispanic Chamber of Commerce. \n📍 Cafe La Maze\, 1441 Highland Ave\, National City\, CA 91950 \n🗓 Thursday\, March 26 \n⏰ 5:00 PM \nEnjoy an evening of networking\, music\, celebration\, and good energy with fellow professionals from our Hispanic business community. Conecta con otros profesionales\, build meaningful relationships\, and grow together in a space full of cultura and comunidad. \nBring your business cards and your dance shoes as we celebrate 85 years of history at the oldest steakhouse in National City. \nSpecial thank you to our host Cafe La Maze and our sponsor California Healthcare & Hospice for making this evening possible. \nNos vemos there.
URL:https://sdtechscene.org/event/san-diego-county-hispanic-chamber-march-mixer/
LOCATION:Cafe La Maze\, 1441 Highland Avenue\, National City\, CA\, 91950\, United States
CATEGORIES:Collaboration,Community Building,Networking
END:VEVENT
BEGIN:VEVENT
DTSTART;TZID=America/Los_Angeles:20260326T173000
DTEND;TZID=America/Los_Angeles:20260326T193000
DTSTAMP:20260423T012359
CREATED:20260126T060452Z
LAST-MODIFIED:20260326T063014Z
UID:10016439-1774546200-1774553400@sdtechscene.org
SUMMARY:RTP Communities: San Diego Gaming Leaders Happy Hour
DESCRIPTION:RTP Communities is bringing together founders\, builders\, and leaders across San Diego’s gaming ecosystem for a relaxed\, high-signal happy hour. \nThis isn’t a panel or a pitch night. It’s a space for real conversations\, spontaneous demos\, and reconnecting with people who are actively building games\, gaming platforms\, or gaming-adjacent technology. \nWhat to Expect\n🍻 Happy hour with peers building games and gaming-adjacent tech💬 Unstructured\, high-quality conversations (no forced programming)🎮 Room for live demos\, show-and-tell\, or informal playtesting🤝 A curated crowd – founders\, senior developers\, creatives\, and operators\nCome for the happy hour. Stay longer if the conversations are flowing. \nWho Should Attend\nThis gathering is designed for people actively working in the games industry or on gaming-adjacent tech\, including: \nStudio founders & indie game leads\, Senior engineers\, gameplay designers\, and creative directors. Platform\, tooling\, and infrastructure builders. Select investors\, publishers\, and ecosystem partners\nIf you’re building real games or the technology that enables them\, you’ll be in good company. \nInterested in hosting\, demoing\, or helping shape future gaming gatherings? Join us and let’s build this together. \nAbout RTP Communities\nThis event is part of RTP Communities\, a growing network of founder- and operator-led communities across San Diego. Our goal is simple: bring the right people into the same room\, consistently\, and let momentum compound. \nRSVP\nSpace is limited to keep the room high-signal. \n👉 RSVP to join us on February 24 \n(Invite-first. Approval may be required.)
URL:https://sdtechscene.org/event/rtp-communities-san-diego-gaming-leaders-happy-hour/
LOCATION:RSVP for Location
CATEGORIES:Community Building,Conversation,Demo
END:VEVENT
BEGIN:VEVENT
DTSTART;TZID=America/Los_Angeles:20260327T063000
DTEND;TZID=America/Los_Angeles:20260327T083000
DTSTAMP:20260423T012359
CREATED:20260327T065445Z
LAST-MODIFIED:20260327T065445Z
UID:10017307-1774593000-1774600200@sdtechscene.org
SUMMARY:SD Founders Surf - March 27\, 2026
DESCRIPTION:Founders\, investors\, and those who support them\, meet at “Pipes”: San Elijo State Beach\, northern-most part of the north parking lot near the benches and shower. If you see stairs or you see parking lot north of you\, keep going north! The pin on the map is about 100 yards south of where we’ll meet. Easiest to park for free on Coast Hwy. See the pic below. We meet at those picnic tables. \nBring an inspiring quote of the day!
URL:https://sdtechscene.org/event/sd-founders-surf-march-27-2026/
LOCATION:San Elijo State Beach\, Highway 101 & San Elijo State Beach\, Parking lot\, S Coast Hwy 101 Parking\, Cardiff\, CA\, 92007\, United States
CATEGORIES:Community Building,Investors & Funding,Startups & Founders
END:VEVENT
BEGIN:VEVENT
DTSTART;TZID=America/Los_Angeles:20260327T083000
DTEND;TZID=America/Los_Angeles:20260327T113000
DTSTAMP:20260423T012359
CREATED:20260316T060741Z
LAST-MODIFIED:20260316T060741Z
UID:10017229-1774600200-1774611000@sdtechscene.org
SUMMARY:SD Defense Tech Meetup
DESCRIPTION:​Coffee\, bagels\, and defense tech conversations that matter. \n​San Diego is the working community for entrepreneurs actively building products for national defense — whether you’re in autonomy\, advanced sensors\, robotics\, or other mission-critical technology. Come meet the people building the next-generation of technology for our warfighters. \n​The format is simple: network over coffee at 8:30\, then a round of introductions so everyone knows who’s in the room. The rest is yours. \n​Who attends: Aerospace & Defense tech founders · defense and industry end-users · early-stage investors · technical builders & innovators \n​The event fee covers coffee and bagels.
URL:https://sdtechscene.org/event/sd-defense-tech-meetup/
LOCATION:Downtown Works – Coworking Office Space Mission Valley\, 3517 Camino del Rio S Suite 215\, San Diego\, CA\, 92108\, United States
CATEGORIES:Community Building,Conversation,Entrepreneurs,Innovators,Networking
END:VEVENT
BEGIN:VEVENT
DTSTART;TZID=America/Los_Angeles:20260328T100000
DTEND;TZID=America/Los_Angeles:20260328T120000
DTSTAMP:20260423T012359
CREATED:20240722T105253Z
LAST-MODIFIED:20250914T190415Z
UID:10004268-1774692000-1774699200@sdtechscene.org
SUMMARY:Online: Saturday Study Group
DESCRIPTION:We are continuing our Study group online for the time being.\nWe are now meeting online in the San Diego Python Discord server! Here is the link to join: https://discord.gg/8GpWuVvdbQ\nThere is a “meetup” voice/video channel that we will be using! \nWe may start meeting in person soon! This will be discussed at the meetup. We are considering having some online\, some in-person. Decisions\, decisions! \nEvery Saturday we meet up with the larger Python community (including San Diego PyLadies (https://www.meetup.com/sd-pyladies)\, Open BioInformatics San Diego (https://www.meetup.com/Open-Bioinformatics-SanDiego/) and San Diego Artificial Intelligence (https://www.meetup.com/SanDiegoAI/)) to chat\, learn\, and hang out. \nOur study group is for everyone on their Python journey\, whether you’re just starting out\, an experienced pro\, or anywhere in between. There’s no formal instruction\, just a bunch of folks who like to code. Sometimes we talk about a specific subject\, sometimes answer questions\, whatever! \nPython Community Code of Conduct (http://www.pythonsd.org/coc): Python is much more than a software language. Python is a vibrant community made up of members from around the globe with a diverse set of skills\, personalities\, and experiences. It is through these differences that our community experiences great successes and continued growth. Overall\, we’re good to each other. We contribute to this community not because we have to\, but because we want to.
URL:https://sdtechscene.org/event/online-saturday-study-group/2026-03-28/
LOCATION:Virtual
CATEGORIES:Community Building,Networking,Virtual
END:VEVENT
BEGIN:VEVENT
DTSTART;TZID=America/Los_Angeles:20260328T100000
DTEND;TZID=America/Los_Angeles:20260328T140000
DTSTAMP:20260423T012359
CREATED:20260123T062745Z
LAST-MODIFIED:20260123T063036Z
UID:10016375-1774692000-1774706400@sdtechscene.org
SUMMARY:In Person - San Diego 3D Printing Monthly Meetup
DESCRIPTION:Hi All\, \nThis is our in-person meeting on the 4th saturday of the month.(2nd Saturday will continue to be online) We will meet at SD Colab 3.0 makerspace(on Mission Gorge Place). \nMembers from all background’s come by and talk about how 3D printing has changed their lives for the better. For myself I like to make artistic objects with some functionality\, others are building custom printers and exploring custom wearables. Sometimes people will bring their printers to share. Anything is possible so let’s chat! \nDo you have a printer? What do you want to make? Just curious and want to chat with similar interests? \nStop in and get your Saturday morning motivation amped up with a cup of coffee\, and make something! \nDisclaimer: We take photos during the event of people and equipment to share in our community. \nJoin our discord to continue the chat.\nhttp://discord.SanDiego3DPrinting.com
URL:https://sdtechscene.org/event/in-person-san-diego-3d-printing-monthly-meetup/2026-03-28/
LOCATION:CoLab 3.0\, 4667 Mission Gorge Pl\, San Diego\, United States
CATEGORIES:Community Building,Networking
END:VEVENT
END:VCALENDAR