BEGIN:VCALENDAR
VERSION:2.0
PRODID:-//San Diego Tech Scene - ECPv6.15.20//NONSGML v1.0//EN
CALSCALE:GREGORIAN
METHOD:PUBLISH
X-WR-CALNAME:San Diego Tech Scene
X-ORIGINAL-URL:https://sdtechscene.org
X-WR-CALDESC:Events for San Diego Tech Scene
REFRESH-INTERVAL;VALUE=DURATION:PT1H
X-Robots-Tag:noindex
X-PUBLISHED-TTL:PT1H
BEGIN:VTIMEZONE
TZID:America/Los_Angeles
BEGIN:DAYLIGHT
TZOFFSETFROM:-0800
TZOFFSETTO:-0700
TZNAME:PDT
DTSTART:20250309T100000
END:DAYLIGHT
BEGIN:STANDARD
TZOFFSETFROM:-0700
TZOFFSETTO:-0800
TZNAME:PST
DTSTART:20251102T090000
END:STANDARD
BEGIN:DAYLIGHT
TZOFFSETFROM:-0800
TZOFFSETTO:-0700
TZNAME:PDT
DTSTART:20260308T100000
END:DAYLIGHT
BEGIN:STANDARD
TZOFFSETFROM:-0700
TZOFFSETTO:-0800
TZNAME:PST
DTSTART:20261101T090000
END:STANDARD
BEGIN:DAYLIGHT
TZOFFSETFROM:-0800
TZOFFSETTO:-0700
TZNAME:PDT
DTSTART:20270314T100000
END:DAYLIGHT
BEGIN:STANDARD
TZOFFSETFROM:-0700
TZOFFSETTO:-0800
TZNAME:PST
DTSTART:20271107T090000
END:STANDARD
END:VTIMEZONE
BEGIN:VEVENT
DTSTART;TZID=America/Los_Angeles:20260504T090000
DTEND;TZID=America/Los_Angeles:20260504T110000
DTSTAMP:20260424T083953
CREATED:20260406T045336Z
LAST-MODIFIED:20260406T045438Z
UID:10017519-1777885200-1777892400@sdtechscene.org
SUMMARY:Little Italy San Diego Tech Coffee
DESCRIPTION:We’re bringing back Tech Coffee to the greater downtown area after a few year hiatus. What better spot for Tech Coffee than Little Italy\, the coffee capital of San Diego! \nJoin us at Portal Coffee overlooking the beautiful Waterfront Park and San Diego Harbor. \nThere’s lots of available street parking along Kettner between Fir and Beech St just 1-3 blocks from Portal Coffee. See the Parking Map attached image. We’re also one block from the MTA Trolley and 2 blocks from Amtrak and the Coaster. \nCome by for some networking\, sharing\, brainstorming\, and mentoring. And we love it when people want to share what they are working on! \nThere is no agenda\, which means you can’t be late – come when you can\, leave when you need to. Very informal. \nNew to the San Diego startup community? Or just want to be better connected? Check out the SD Tech Scene calendar – https://sdtechscene.org
URL:https://sdtechscene.org/event/little-italy-san-diego-tech-coffee/2026-05-04/
LOCATION:Portal Coffee\, 1495 Pacific Hwy\, San Diego\, CA\, 92101\, United States
CATEGORIES:Networking
END:VEVENT
END:VCALENDAR