BEGIN:VCALENDAR
VERSION:2.0
PRODID:-//San Diego Tech Scene - ECPv6.15.19//NONSGML v1.0//EN
CALSCALE:GREGORIAN
METHOD:PUBLISH
X-WR-CALNAME:San Diego Tech Scene
X-ORIGINAL-URL:https://sdtechscene.org
X-WR-CALDESC:Events for San Diego Tech Scene
REFRESH-INTERVAL;VALUE=DURATION:PT1H
X-Robots-Tag:noindex
X-PUBLISHED-TTL:PT1H
BEGIN:VTIMEZONE
TZID:America/Los_Angeles
BEGIN:DAYLIGHT
TZOFFSETFROM:-0800
TZOFFSETTO:-0700
TZNAME:PDT
DTSTART:20240310T100000
END:DAYLIGHT
BEGIN:STANDARD
TZOFFSETFROM:-0700
TZOFFSETTO:-0800
TZNAME:PST
DTSTART:20241103T090000
END:STANDARD
BEGIN:DAYLIGHT
TZOFFSETFROM:-0800
TZOFFSETTO:-0700
TZNAME:PDT
DTSTART:20250309T100000
END:DAYLIGHT
BEGIN:STANDARD
TZOFFSETFROM:-0700
TZOFFSETTO:-0800
TZNAME:PST
DTSTART:20251102T090000
END:STANDARD
BEGIN:DAYLIGHT
TZOFFSETFROM:-0800
TZOFFSETTO:-0700
TZNAME:PDT
DTSTART:20260308T100000
END:DAYLIGHT
BEGIN:STANDARD
TZOFFSETFROM:-0700
TZOFFSETTO:-0800
TZNAME:PST
DTSTART:20261101T090000
END:STANDARD
END:VTIMEZONE
BEGIN:VEVENT
DTSTART;TZID=America/Los_Angeles:20250503T100000
DTEND;TZID=America/Los_Angeles:20250503T120000
DTSTAMP:20260421T033956
CREATED:20240722T105253Z
LAST-MODIFIED:20250914T190415Z
UID:10004221-1746266400-1746273600@sdtechscene.org
SUMMARY:Online: Saturday Study Group
DESCRIPTION:We are continuing our Study group online for the time being.\nWe are now meeting online in the San Diego Python Discord server! Here is the link to join: https://discord.gg/8GpWuVvdbQ\nThere is a “meetup” voice/video channel that we will be using! \nWe may start meeting in person soon! This will be discussed at the meetup. We are considering having some online\, some in-person. Decisions\, decisions! \nEvery Saturday we meet up with the larger Python community (including San Diego PyLadies (https://www.meetup.com/sd-pyladies)\, Open BioInformatics San Diego (https://www.meetup.com/Open-Bioinformatics-SanDiego/) and San Diego Artificial Intelligence (https://www.meetup.com/SanDiegoAI/)) to chat\, learn\, and hang out. \nOur study group is for everyone on their Python journey\, whether you’re just starting out\, an experienced pro\, or anywhere in between. There’s no formal instruction\, just a bunch of folks who like to code. Sometimes we talk about a specific subject\, sometimes answer questions\, whatever! \nPython Community Code of Conduct (http://www.pythonsd.org/coc): Python is much more than a software language. Python is a vibrant community made up of members from around the globe with a diverse set of skills\, personalities\, and experiences. It is through these differences that our community experiences great successes and continued growth. Overall\, we’re good to each other. We contribute to this community not because we have to\, but because we want to.
URL:https://sdtechscene.org/event/online-saturday-study-group/2025-05-03/
LOCATION:Virtual
CATEGORIES:Community Building,Networking,Virtual
END:VEVENT
BEGIN:VEVENT
DTSTART;TZID=America/Los_Angeles:20250503T100000
DTEND;TZID=America/Los_Angeles:20250503T140000
DTSTAMP:20260421T033956
CREATED:20240614T081714Z
LAST-MODIFIED:20250914T190415Z
UID:10006308-1746266400-1746280800@sdtechscene.org
SUMMARY:Hack and Race-Prep Autonomous Cars
DESCRIPTION:San Diego Robotics DIYRobocars Race-Prep Day\, Hosted by UCSD. \nPlease keep in mind that at the Saturdays meeting we expect you to have your robocar built and software installed. I hope you will understand that for us time at the track is limited to once a week for 4 hours. We would like to use it for development as much as feasible. \nPlease complete your robot build before coming to the Saturdays meetup. See the 2nd Wednesday of month Beginner/Builder Meetup and our slack channel. Then bring your bot and computer to the track. \nPlease sign-up and come for our monthly Beginners and Builders Meetup before coming to the Saturdays Meetup. \nAgenda:\n10 :00 am – 2:00 pm. Training and racing \nWe have built a double lane track with a yellow dashed center-line. Expect a track roughly 30×15 feet\, with a concrete floor and duct tape lines. \nDon’t worry if you are still working things out with the software. We will be on hand to help all get going. This is a great chance to gather training data for you robot. Still figuring out hardware and/or configuring the software on the bot and laptop? Go to one of the 2nd Wed of month Beginner/Builder Meetups. \nThere will be tables\, power\, and wifi. Please bring your laptops and bot and be ready to hack. \nA special thanks to UCSD for hosting us. \nThank you.\nSD DIYRobocars. \n——– \nCheckout http://www.donkeycar.com for the build information that many of us used to get started. \nCheckout http://docs.donkeycar.com for parts lists\, hardware and software setup instructions. \nSelf-steering car from SD group:\nhttps://www.youtube.com/watch?v=nxhsv5CViBg \nmore sample driving from San Diego meetup:\nhttps://www.youtube.com/watch?v=WecNKymdg3k \nsome sample driving from Oakland DIYRobocars meetup:\nhttps://www.youtube.com/watch?v=sQn5PA6nl3I
URL:https://sdtechscene.org/event/hack-and-race-prep-autonomous-cars/2025-05-03/
LOCATION:UCSD\, Engineering Building Unit 2\, Engineering Building Unit 2\, La Jolla\, CA\, United States
CATEGORIES:Networking,Robotics & Hardware,Specialty Tech
END:VEVENT
END:VCALENDAR